BEGIN:VCALENDAR
VERSION:2.0
PRODID:-//ChamberMaster//Event Calendar 2.0//EN
METHOD:PUBLISH
X-PUBLISHED-TTL:P3D
REFRESH-INTERVAL:P3D
CALSCALE:GREGORIAN
BEGIN:VEVENT
DTSTART:20260425T200000Z
DTEND:20260425T230000Z
X-MICROSOFT-CDO-ALLDAYEVENT:FALSE
SUMMARY:Meat Raffle - Sno Gypsies Fundraiser
DESCRIPTION:Join the Sno-Gypsies Snowmobile Club for their Meat Raffle Fundraiser at Maple Grove Tavern. The fun starts at 3pm!
X-ALT-DESC;FMTTYPE=text/html:Join the Sno-Gypsies Snowmobile Club for their Meat Raffle Fundraiser at Maple Grove Tavern. The fun starts at 3pm!&nbsp\;
LOCATION:Maple Grove Tavern 3 miles East of Butternut on County Trunk F
UID:e.3297.5199
SEQUENCE:3
DTSTAMP:20260423T210510Z
URL:https://business.parkfalls.com/events/details/meat-raffle-sno-gypsies-fundraiser-5199
END:VEVENT

END:VCALENDAR
