BEGIN:VCALENDAR
VERSION:2.0
PRODID:-//ChamberMaster//Event Calendar 2.0//EN
METHOD:PUBLISH
X-PUBLISHED-TTL:P3D
REFRESH-INTERVAL:P3D
CALSCALE:GREGORIAN
BEGIN:VEVENT
DTSTART:20260523T133000Z
DTEND:20260523T223000Z
X-MICROSOFT-CDO-ALLDAYEVENT:FALSE
SUMMARY:Memorial Weekend Sale
DESCRIPTION:Daily Sales/Specials\n\nLola's Lunchbox food truck will be on the grounds.
X-ALT-DESC;FMTTYPE=text/html:Daily Sales/Specials<br />\nLola&#39\;s Lunchbox food truck will be on the grounds.&nbsp\;
LOCATION:Winter Greenhouse W7041 Olmstead Road Winter\, WI 54896
UID:e.3297.5185
SEQUENCE:3
DTSTAMP:20260424T163615Z
URL:https://business.parkfalls.com/events/details/memorial-weekend-sale-5185
END:VEVENT

END:VCALENDAR
