BEGIN:VCALENDAR
VERSION:2.0
PRODID:-//ChamberMaster//Event Calendar 2.0//EN
METHOD:PUBLISH
X-PUBLISHED-TTL:P3D
REFRESH-INTERVAL:P3D
CALSCALE:GREGORIAN
BEGIN:VEVENT
DTSTART;VALUE=DATE:20220801
DTEND;VALUE=DATE:20220802
TRANSP:TRANSPARENT
X-MICROSOFT-CDO-ALLDAYEVENT:TRUE
SUMMARY:Sportsman's Lounge Mexican Mondays
DESCRIPTION:Got a taste for Mexican food? Head out to Sportsmans lounge and get it satisfied. Tacos\, Burritos\, Chimis and more.....
X-ALT-DESC;FMTTYPE=text/html:Got a taste for Mexican food? Head out to Sportsmans lounge and get it satisfied. Tacos\, Burritos\, Chimis and more.....
LOCATION:Sportsmans lounge and Flambeau Resort N15355 East Road Park Falls WI 54552
UID:e.3297.2503
SEQUENCE:3
DTSTAMP:20260424T002101Z
URL:https://business.parkfalls.com/events/details/mexican-mondays-08-01-2022-2503
END:VEVENT

END:VCALENDAR
