BEGIN:VCALENDAR
VERSION:2.0
PRODID:-//ChamberMaster//Event Calendar 2.0//EN
METHOD:PUBLISH
X-PUBLISHED-TTL:P3D
REFRESH-INTERVAL:P3D
CALSCALE:GREGORIAN
BEGIN:VEVENT
DTSTART:20261126T140000Z
DTEND:20261126T170000Z
X-MICROSOFT-CDO-ALLDAYEVENT:FALSE
SUMMARY:Turkey Trot 5K
DESCRIPTION:Start your Thanksgiving Day with a 5k trot to make room for turkey and all the sides! This is a fun event for the whole family. Come run or walk dressed up in your turkey best. Prizes will be awarded to the first female and male overall finishers. We will also be collecting donations for The Lords Cupboard Food Panty. A door prize raffle winner will be drawn after the last finisher. Receive extra door prize entries for non-perishable food items\, 1 extra entry per item.
X-ALT-DESC;FMTTYPE=text/html:Start your Thanksgiving Day with a 5k trot to make room for turkey and all the sides! This is a fun event for the whole family. Come run or walk dressed up in your turkey best. Prizes will be awarded to the first female and male overall finishers. We will also be collecting donations for The Lords Cupboard Food Panty. A door prize raffle winner will be drawn after the last finisher. Receive extra door prize entries for non-perishable food items\, 1 extra entry per item.&nbsp\;
LOCATION:Registration will be at the Flambeau River YMCA
UID:e.3297.5088
SEQUENCE:3
DTSTAMP:20260423T231203Z
URL:https://business.parkfalls.com/events/details/turkey-trot-5k-5088
END:VEVENT

END:VCALENDAR
